BEGIN:VCALENDAR
VERSION:2.0
PRODID:-//MLNCK - ECPv6.15.20//NONSGML v1.0//EN
CALSCALE:GREGORIAN
METHOD:PUBLISH
X-ORIGINAL-URL:https://mlnck.fr
X-WR-CALDESC:Évènements pour MLNCK
REFRESH-INTERVAL;VALUE=DURATION:PT1H
X-Robots-Tag:noindex
X-PUBLISHED-TTL:PT1H
BEGIN:VTIMEZONE
TZID:UTC
BEGIN:STANDARD
TZOFFSETFROM:+0000
TZOFFSETTO:+0000
TZNAME:UTC
DTSTART:20240101T000000
END:STANDARD
END:VTIMEZONE
BEGIN:VEVENT
DTSTART;VALUE=DATE:20251025
DTEND;VALUE=DATE:20251027
DTSTAMP:20260421T111724
CREATED:20250102T204037Z
LAST-MODIFIED:20250102T204037Z
UID:748-1761350400-1761523199@mlnck.fr
SUMMARY:Coupe de france kayak polo
DESCRIPTION:
URL:https://mlnck.fr/evenement/coupe-de-france-kayak-polo-2/
CATEGORIES:Compétition polo N2
END:VEVENT
BEGIN:VEVENT
DTSTART;VALUE=DATE:20251004
DTEND;VALUE=DATE:20251006
DTSTAMP:20260421T111724
CREATED:20250102T204105Z
LAST-MODIFIED:20250102T204105Z
UID:750-1759536000-1759708799@mlnck.fr
SUMMARY:Play down - kayak polo
DESCRIPTION:
URL:https://mlnck.fr/evenement/play-down-kayak-polo/
CATEGORIES:Compétition polo N2
END:VEVENT
BEGIN:VEVENT
DTSTART;VALUE=DATE:20250927
DTEND;VALUE=DATE:20250929
DTSTAMP:20260421T111724
CREATED:20250102T203958Z
LAST-MODIFIED:20250102T203958Z
UID:746-1758931200-1759103999@mlnck.fr
SUMMARY:Coupe de france kayak polo
DESCRIPTION:
URL:https://mlnck.fr/evenement/coupe-de-france-kayak-polo/
CATEGORIES:Compétition polo N2
END:VEVENT
BEGIN:VEVENT
DTSTART;TZID=UTC:20250914T103000
DTEND;TZID=UTC:20250914T170000
DTSTAMP:20260421T111724
CREATED:20250408T190237Z
LAST-MODIFIED:20250408T190553Z
UID:870-1757845800-1757869200@mlnck.fr
SUMMARY:Cap d'Antibes
DESCRIPTION:
URL:https://mlnck.fr/evenement/cap-dantibes-2/
CATEGORIES:Evénement MLNCK
END:VEVENT
BEGIN:VEVENT
DTSTART;TZID=UTC:20250911T183000
DTEND;TZID=UTC:20250911T210000
DTSTAMP:20260421T111724
CREATED:20250408T190204Z
LAST-MODIFIED:20250408T190204Z
UID:868-1757615400-1757624400@mlnck.fr
SUMMARY:Amont de la Siagne
DESCRIPTION:
URL:https://mlnck.fr/evenement/amont-de-la-siagne-3/
CATEGORIES:Evénement MLNCK
END:VEVENT
BEGIN:VEVENT
DTSTART;TZID=UTC:20250828T183000
DTEND;TZID=UTC:20250828T210000
DTSTAMP:20260421T111724
CREATED:20250408T190118Z
LAST-MODIFIED:20250408T190545Z
UID:866-1756405800-1756414800@mlnck.fr
SUMMARY:Mandelieu - Château
DESCRIPTION:
URL:https://mlnck.fr/evenement/mandelieu-chateau-2/
CATEGORIES:Evénement MLNCK
END:VEVENT
BEGIN:VEVENT
DTSTART;TZID=UTC:20250823T103000
DTEND;TZID=UTC:20250823T170000
DTSTAMP:20260421T111724
CREATED:20250408T190032Z
LAST-MODIFIED:20250408T190541Z
UID:864-1755945000-1755968400@mlnck.fr
SUMMARY:Mandelieu - Théoule
DESCRIPTION:
URL:https://mlnck.fr/evenement/mandelieu-theoule-2/
CATEGORIES:Evénement MLNCK
END:VEVENT
BEGIN:VEVENT
DTSTART;TZID=UTC:20250802T103000
DTEND;TZID=UTC:20250802T170000
DTSTAMP:20260421T111724
CREATED:20250408T185912Z
LAST-MODIFIED:20250408T190536Z
UID:860-1754130600-1754154000@mlnck.fr
SUMMARY:Iles de Lérins
DESCRIPTION:
URL:https://mlnck.fr/evenement/iles-de-lerins-2/
CATEGORIES:Evénement MLNCK
END:VEVENT
BEGIN:VEVENT
DTSTART;TZID=UTC:20250726T103000
DTEND;TZID=UTC:20250726T170000
DTSTAMP:20260421T111724
CREATED:20250408T185832Z
LAST-MODIFIED:20250408T190525Z
UID:858-1753525800-1753549200@mlnck.fr
SUMMARY:Lac de Saint Cassien
DESCRIPTION:
URL:https://mlnck.fr/evenement/lac-de-saint-cassien/
CATEGORIES:Evénement MLNCK
END:VEVENT
BEGIN:VEVENT
DTSTART;TZID=UTC:20250724T183000
DTEND;TZID=UTC:20250724T210000
DTSTAMP:20260421T111724
CREATED:20250408T185748Z
LAST-MODIFIED:20250408T190519Z
UID:856-1753381800-1753390800@mlnck.fr
SUMMARY:Mandelieu - Chateau
DESCRIPTION:
URL:https://mlnck.fr/evenement/mandelieu-chateau/
CATEGORIES:Evénement MLNCK
END:VEVENT
BEGIN:VEVENT
DTSTART;VALUE=DATE:20250714
DTEND;VALUE=DATE:20250715
DTSTAMP:20260421T111724
CREATED:20250102T204632Z
LAST-MODIFIED:20250102T204632Z
UID:758-1752451200-1752537599@mlnck.fr
SUMMARY:Free Session de Freestyle et big trick contest sur la vague du Rabioux
DESCRIPTION:
URL:https://mlnck.fr/evenement/free-session-de-freestyle-et-big-trick-contest-sur-la-vague-du-rabioux/
CATEGORIES:Evenement national
END:VEVENT
BEGIN:VEVENT
DTSTART;TZID=UTC:20250705T103000
DTEND;TZID=UTC:20250705T170000
DTSTAMP:20260421T111724
CREATED:20250408T185623Z
LAST-MODIFIED:20250408T190513Z
UID:852-1751711400-1751734800@mlnck.fr
SUMMARY:Iles de Lérins
DESCRIPTION:
URL:https://mlnck.fr/evenement/iles-de-lerins/
CATEGORIES:Evénement MLNCK
END:VEVENT
BEGIN:VEVENT
DTSTART;TZID=UTC:20250622T103000
DTEND;TZID=UTC:20250622T170000
DTSTAMP:20260421T111724
CREATED:20250408T185533Z
LAST-MODIFIED:20250408T185533Z
UID:850-1750588200-1750611600@mlnck.fr
SUMMARY:Mandelieu - Theoule
DESCRIPTION:
URL:https://mlnck.fr/evenement/mandelieu-theoule/
CATEGORIES:Evénement MLNCK
END:VEVENT
BEGIN:VEVENT
DTSTART;TZID=UTC:20250619T183000
DTEND;TZID=UTC:20250619T210000
DTSTAMP:20260421T111724
CREATED:20250408T185401Z
LAST-MODIFIED:20250408T185401Z
UID:848-1750357800-1750366800@mlnck.fr
SUMMARY:Aval de la Siagne
DESCRIPTION:
URL:https://mlnck.fr/evenement/aval-de-la-siagne/
CATEGORIES:Evénement MLNCK
END:VEVENT
BEGIN:VEVENT
DTSTART;VALUE=DATE:20250614
DTEND;VALUE=DATE:20250615
DTSTAMP:20260421T111724
CREATED:20250102T203630Z
LAST-MODIFIED:20250102T203630Z
UID:736-1749859200-1749945599@mlnck.fr
SUMMARY:Sortie kayak loisir
DESCRIPTION:
URL:https://mlnck.fr/evenement/sortie-kayak-loisir-15/
CATEGORIES:Sortie loisir
END:VEVENT
BEGIN:VEVENT
DTSTART;VALUE=DATE:20250607
DTEND;VALUE=DATE:20250609
DTSTAMP:20260421T111724
CREATED:20250102T203920Z
LAST-MODIFIED:20250103T132813Z
UID:744-1749254400-1749427199@mlnck.fr
SUMMARY:N2 - Kayak polo
DESCRIPTION:
URL:https://mlnck.fr/evenement/n2-kayak-polo-4/
LOCATION:Pont-d’Ouilly\, 14690
CATEGORIES:Compétition polo N2
END:VEVENT
BEGIN:VEVENT
DTSTART;VALUE=DATE:20250607
DTEND;VALUE=DATE:20250608
DTSTAMP:20260421T111724
CREATED:20250102T203609Z
LAST-MODIFIED:20250102T203609Z
UID:734-1749254400-1749340799@mlnck.fr
SUMMARY:Sortie kayak loisir
DESCRIPTION:
URL:https://mlnck.fr/evenement/sortie-kayak-loisir-14/
CATEGORIES:Sortie loisir
END:VEVENT
BEGIN:VEVENT
DTSTART;VALUE=DATE:20250606
DTEND;VALUE=DATE:20250610
DTSTAMP:20260421T111724
CREATED:20250102T204724Z
LAST-MODIFIED:20250102T204724Z
UID:760-1749168000-1749513599@mlnck.fr
SUMMARY:Treignac riviere la Veizere descente libre
DESCRIPTION:
URL:https://mlnck.fr/evenement/treignac-riviere-la-veizere-descente-libre/
CATEGORIES:Evenement national
END:VEVENT
BEGIN:VEVENT
DTSTART;VALUE=DATE:20250606
DTEND;VALUE=DATE:20250610
DTSTAMP:20260421T111724
CREATED:20250102T204506Z
LAST-MODIFIED:20250102T204506Z
UID:754-1749168000-1749513599@mlnck.fr
SUMMARY:BFK Briançon
DESCRIPTION:
URL:https://mlnck.fr/evenement/bfk-briancon/
CATEGORIES:Evenement national
END:VEVENT
BEGIN:VEVENT
DTSTART;VALUE=DATE:20250524
DTEND;VALUE=DATE:20250526
DTSTAMP:20260421T111724
CREATED:20250102T204804Z
LAST-MODIFIED:20250102T204804Z
UID:762-1748044800-1748217599@mlnck.fr
SUMMARY:1000 pagaies a Avignon
DESCRIPTION:
URL:https://mlnck.fr/evenement/1000-pagaies-a-avignon/
CATEGORIES:Evenement national
END:VEVENT
BEGIN:VEVENT
DTSTART;VALUE=DATE:20250524
DTEND;VALUE=DATE:20250525
DTSTAMP:20260421T111724
CREATED:20250102T203519Z
LAST-MODIFIED:20250102T203519Z
UID:732-1748044800-1748131199@mlnck.fr
SUMMARY:Sortie kayak loisir
DESCRIPTION:
URL:https://mlnck.fr/evenement/sortie-kayak-loisir-13/
CATEGORIES:Sortie loisir
END:VEVENT
BEGIN:VEVENT
DTSTART;TZID=UTC:20250522T183000
DTEND;TZID=UTC:20250522T210000
DTSTAMP:20260421T111724
CREATED:20250408T185254Z
LAST-MODIFIED:20250408T190500Z
UID:846-1747938600-1747947600@mlnck.fr
SUMMARY:Amont de la Siagne
DESCRIPTION:
URL:https://mlnck.fr/evenement/amont-de-la-siagne/
CATEGORIES:Evénement MLNCK
END:VEVENT
BEGIN:VEVENT
DTSTART;VALUE=DATE:20250517
DTEND;VALUE=DATE:20250519
DTSTAMP:20260421T111724
CREATED:20250102T203841Z
LAST-MODIFIED:20250103T132720Z
UID:742-1747440000-1747612799@mlnck.fr
SUMMARY:N2 - Kayak polo
DESCRIPTION:
URL:https://mlnck.fr/evenement/n2-kayak-polo-3/
LOCATION:Décines-Charpieu\, 69275
CATEGORIES:Compétition polo N2
END:VEVENT
BEGIN:VEVENT
DTSTART;TZID=UTC:20250510T103000
DTEND;TZID=UTC:20250510T170000
DTSTAMP:20260421T111724
CREATED:20250408T184954Z
LAST-MODIFIED:20250408T190429Z
UID:842-1746873000-1746896400@mlnck.fr
SUMMARY:Cap d'Antibes
DESCRIPTION:
URL:https://mlnck.fr/evenement/cap-dantibes/
CATEGORIES:Evénement MLNCK
END:VEVENT
BEGIN:VEVENT
DTSTART;VALUE=DATE:20250510
DTEND;VALUE=DATE:20250511
DTSTAMP:20260421T111724
CREATED:20250102T203501Z
LAST-MODIFIED:20250102T203501Z
UID:730-1746835200-1746921599@mlnck.fr
SUMMARY:Sortie kayak loisir
DESCRIPTION:
URL:https://mlnck.fr/evenement/sortie-kayak-loisir-12/
CATEGORIES:Sortie loisir
END:VEVENT
BEGIN:VEVENT
DTSTART;VALUE=DATE:20250503
DTEND;VALUE=DATE:20250504
DTSTAMP:20260421T111724
CREATED:20250102T203439Z
LAST-MODIFIED:20250102T203439Z
UID:728-1746230400-1746316799@mlnck.fr
SUMMARY:Sortie kayak loisir
DESCRIPTION:
URL:https://mlnck.fr/evenement/sortie-kayak-loisir-11/
CATEGORIES:Sortie loisir
END:VEVENT
BEGIN:VEVENT
DTSTART;TZID=UTC:20250426T080000
DTEND;TZID=UTC:20250426T170000
DTSTAMP:20260421T111724
CREATED:20250408T192129Z
LAST-MODIFIED:20250408T192129Z
UID:886-1745654400-1745686800@mlnck.fr
SUMMARY:Journée nettoyage de la Siagne
DESCRIPTION:
URL:https://mlnck.fr/evenement/journee-nettoyage-de-la-siagne/
CATEGORIES:Evénement MLNCK
END:VEVENT
BEGIN:VEVENT
DTSTART;VALUE=DATE:20250419
DTEND;VALUE=DATE:20250421
DTSTAMP:20260421T111724
CREATED:20250102T203804Z
LAST-MODIFIED:20250103T132618Z
UID:740-1745020800-1745193599@mlnck.fr
SUMMARY:N2 - Kayak polo
DESCRIPTION:
URL:https://mlnck.fr/evenement/n2-kayak-polo-2/
LOCATION:SUCE SUR ERDRE\, 44240
CATEGORIES:Compétition polo N2
END:VEVENT
BEGIN:VEVENT
DTSTART;VALUE=DATE:20250412
DTEND;VALUE=DATE:20250413
DTSTAMP:20260421T111724
CREATED:20250102T203343Z
LAST-MODIFIED:20250102T203343Z
UID:724-1744416000-1744502399@mlnck.fr
SUMMARY:Sortie kayak loisir
DESCRIPTION:
URL:https://mlnck.fr/evenement/sortie-kayak-loisir-9/
CATEGORIES:Sortie loisir
END:VEVENT
BEGIN:VEVENT
DTSTART;VALUE=DATE:20250405
DTEND;VALUE=DATE:20250406
DTSTAMP:20260421T111724
CREATED:20250102T203320Z
LAST-MODIFIED:20250102T203320Z
UID:722-1743811200-1743897599@mlnck.fr
SUMMARY:Sortie kayak loisir
DESCRIPTION:
URL:https://mlnck.fr/evenement/sortie-kayak-loisir-8/
CATEGORIES:Sortie loisir
END:VEVENT
END:VCALENDAR